BEGIN:VCALENDAR
VERSION:2.0
PRODID:-//Call Federal Credit Union - ECPv6.15.11//NONSGML v1.0//EN
CALSCALE:GREGORIAN
METHOD:PUBLISH
X-ORIGINAL-URL:https://callfederal.org
X-WR-CALDESC:Events for Call Federal Credit Union
REFRESH-INTERVAL;VALUE=DURATION:PT1H
X-Robots-Tag:noindex
X-PUBLISHED-TTL:PT1H
BEGIN:VTIMEZONE
TZID:America/Halifax
BEGIN:DAYLIGHT
TZOFFSETFROM:-0400
TZOFFSETTO:-0300
TZNAME:ADT
DTSTART:20250309T060000
END:DAYLIGHT
BEGIN:STANDARD
TZOFFSETFROM:-0300
TZOFFSETTO:-0400
TZNAME:AST
DTSTART:20251102T050000
END:STANDARD
BEGIN:DAYLIGHT
TZOFFSETFROM:-0400
TZOFFSETTO:-0300
TZNAME:ADT
DTSTART:20260308T060000
END:DAYLIGHT
BEGIN:STANDARD
TZOFFSETFROM:-0300
TZOFFSETTO:-0400
TZNAME:AST
DTSTART:20261101T050000
END:STANDARD
BEGIN:DAYLIGHT
TZOFFSETFROM:-0400
TZOFFSETTO:-0300
TZNAME:ADT
DTSTART:20270314T060000
END:DAYLIGHT
BEGIN:STANDARD
TZOFFSETFROM:-0300
TZOFFSETTO:-0400
TZNAME:AST
DTSTART:20271107T050000
END:STANDARD
END:VTIMEZONE
BEGIN:VEVENT
DTSTART;TZID=America/Halifax:20260424T090000
DTEND;TZID=America/Halifax:20260424T120000
DTSTAMP:20260420T140624
CREATED:20260223T161422Z
LAST-MODIFIED:20260223T161422Z
UID:12524-1777021200-1777032000@callfederal.org
SUMMARY:Spring Shred Event - Chesterfield
DESCRIPTION:Spring Shred events are here! Shredding sensitive documents is a simple way to protect your personal information and help combat identity theft. Check the schedule below to choose the date\, time\, and branch that works best for you. \nWhat You Can Shred\n\nPaper documents only (limit: 3 paper grocery bags or 2 bankers boxes per person)\nNo need to remove paper clips or staples\nEnvelopes and folders are okay\n\nPlease don’t bring: binders\, plastic\, or cardboard. \nThanks for helping us keep things moving smoothly by following these guidelines. \n \nNot sure what to bring? See our quick guide: What to Shred (and When).
URL:https://callfederal.org/event/spring26-shred-event-chesterfield/
LOCATION:Chesterfield Branch\, 3640 Call Federal Drive\, Midlothian\, 23112\, United States
CATEGORIES:Community Events
ATTACH;FMTTYPE=image/jpeg:https://callfederal.org/files/spring_shred_26.jpg
ORGANIZER;CN="Call Federal Credit Union":MAILTO:contact@callfederal.org
END:VEVENT
BEGIN:VEVENT
DTSTART;TZID=America/Halifax:20260424T130000
DTEND;TZID=America/Halifax:20260424T160000
DTSTAMP:20260420T140624
CREATED:20260223T161755Z
LAST-MODIFIED:20260223T161755Z
UID:12529-1777035600-1777046400@callfederal.org
SUMMARY:Spring Shred Event - Staples Mill
DESCRIPTION:Spring Shred events are here! Shredding sensitive documents is a simple way to protect your personal information and help combat identity theft. Check the schedule below to choose the date\, time\, and branch that works best for you. \nWhat You Can Shred\n\nPaper documents only (limit: 3 paper grocery bags or 2 bankers boxes per person)\nNo need to remove paper clips or staples\nEnvelopes and folders are okay\n\nPlease don’t bring: binders\, plastic\, or cardboard. \nThanks for helping us keep things moving smoothly by following these guidelines. \n \nNot sure what to bring? See our quick guide: What to Shred (and When).
URL:https://callfederal.org/event/spring26-shred-event-staples-mill/
LOCATION:Staples Mill Branch\, 6011 Staples Mill Road\, Henrico\, 23228\, United States
CATEGORIES:Community Events
ATTACH;FMTTYPE=image/jpeg:https://callfederal.org/files/spring_shred_26.jpg
ORGANIZER;CN="Call Federal Credit Union":MAILTO:contact@callfederal.org
END:VEVENT
BEGIN:VEVENT
DTSTART;TZID=America/Halifax:20260501T130000
DTEND;TZID=America/Halifax:20260501T160000
DTSTAMP:20260420T140624
CREATED:20260223T161711Z
LAST-MODIFIED:20260223T161711Z
UID:12531-1777640400-1777651200@callfederal.org
SUMMARY:Spring Shred Event - Henrico
DESCRIPTION:Spring Shred events are here! Shredding sensitive documents is a simple way to protect your personal information and help combat identity theft. Check the schedule below to choose the date\, time\, and branch that works best for you. \nWhat You Can Shred\n\nPaper documents only (limit: 3 paper grocery bags or 2 bankers boxes per person)\nNo need to remove paper clips or staples\nEnvelopes and folders are okay\n\nPlease don’t bring: binders\, plastic\, or cardboard. \nThanks for helping us keep things moving smoothly by following these guidelines. \n \nNot sure what to bring? See our quick guide: What to Shred (and When).
URL:https://callfederal.org/event/spring26-shred-event-henrico/
LOCATION:Henrico Branch\, 3660 Mayland Court\, Henrico\, 23233\, United States
CATEGORIES:Community Events
ATTACH;FMTTYPE=image/jpeg:https://callfederal.org/files/spring_shred_26.jpg
ORGANIZER;CN="Call Federal Credit Union":MAILTO:contact@callfederal.org
END:VEVENT
END:VCALENDAR